BEGIN:VCALENDAR
VERSION:2.0
PRODID:icalendar-ruby
CALSCALE:GREGORIAN
BEGIN:VEVENT
DTSTAMP:20260420T085104Z
UID:c62ecc84-078a-4517-aa99-eb3cc56e05db
DTSTART;VALUE=DATE:20241127
DESCRIPTION:Property ID# 584339\, Time: 2:00PM
SUMMARY:Auction for 
END:VEVENT
END:VCALENDAR
