BEGIN:VCALENDAR
VERSION:2.0
PRODID:icalendar-ruby
CALSCALE:GREGORIAN
BEGIN:VEVENT
DTSTAMP:20260420T144747Z
UID:249136e9-2e3d-4858-903b-20759b282cac
DTSTART;VALUE=DATE:20230723
DESCRIPTION:Property ID# 559634\, Time: 2:00PM
SUMMARY:Auction for 
END:VEVENT
END:VCALENDAR
