BEGIN:VCALENDAR
VERSION:2.0
PRODID:icalendar-ruby
CALSCALE:GREGORIAN
BEGIN:VEVENT
DTSTAMP:20260420T144436Z
UID:e1467e1f-5f72-4221-a1dd-9a9521631336
DTSTART;VALUE=DATE:20230727
DESCRIPTION:Property ID# 559361\, Time: 3:00PM
SUMMARY:Auction for 
END:VEVENT
END:VCALENDAR
