BEGIN:VCALENDAR
VERSION:2.0
PRODID:icalendar-ruby
CALSCALE:GREGORIAN
BEGIN:VEVENT
DTSTAMP:20260423T203503Z
UID:55135811-88a8-4ba5-b2ec-1c826e35472f
DTSTART;VALUE=DATE:20211214
DESCRIPTION:Property ID# 524229\, Locatoin: 897 Fergusson Drive\, Upper Hut
 t\, Time: 1:00PM
SUMMARY:Auction for 
END:VEVENT
END:VCALENDAR
