BEGIN:VCALENDAR
VERSION:2.0
PRODID:icalendar-ruby
CALSCALE:GREGORIAN
BEGIN:VEVENT
DTSTAMP:20260421T025632Z
UID:fe8a79e7-f058-4d83-9bb1-b554bb4a4382
DTSTART;VALUE=DATE:20211014
DESCRIPTION:Property ID# 517784\, Locatoin: Ray White\, Level 1\, 9-11 King
 s Cres\, Lower Hutt\, Time: 1:00PM
SUMMARY:Auction for 
END:VEVENT
END:VCALENDAR
