BEGIN:VCALENDAR
VERSION:2.0
PRODID:icalendar-ruby
CALSCALE:GREGORIAN
BEGIN:VEVENT
DTSTAMP:20260423T203904Z
UID:3eaed0d4-39b8-499d-9b75-ee395c122812
DTSTART;VALUE=DATE:20210817
DESCRIPTION:Property ID# 515342\, Locatoin: 897 Fergusson Drive\, Upper Hut
 t\, Time: 1:00PM
SUMMARY:Auction for 
END:VEVENT
END:VCALENDAR
