BEGIN:VCALENDAR
VERSION:2.0
PRODID:icalendar-ruby
CALSCALE:GREGORIAN
BEGIN:VEVENT
DTSTAMP:20260423T204114Z
UID:383775dc-9e8c-42ff-abd7-60a0de156194
DTSTART;VALUE=DATE:20210511
DESCRIPTION:Property ID# 508790\, Locatoin: 897 Fergusson Drive\, Upper Hut
 t\, Time: 1:00PM
SUMMARY:Auction for 
END:VEVENT
END:VCALENDAR
