BEGIN:VCALENDAR
VERSION:2.0
PRODID:icalendar-ruby
CALSCALE:GREGORIAN
BEGIN:VEVENT
DTSTAMP:20260423T204457Z
UID:e6271dbe-2af3-4d9d-acf2-81530995d07b
DTSTART;VALUE=DATE:20210525
DESCRIPTION:Property ID# 507570\, Locatoin: 897 Fergusson Drive\, Upper Hut
 t\, Time: 1:00PM
SUMMARY:Auction for 
END:VEVENT
END:VCALENDAR
