BEGIN:VCALENDAR
VERSION:2.0
PRODID:icalendar-ruby
CALSCALE:GREGORIAN
BEGIN:VEVENT
DTSTAMP:20260421T025126Z
UID:7cc654a9-cabd-4dbb-8e1a-fd509b2e2968
DTSTART;VALUE=DATE:20210422
DESCRIPTION:Property ID# 507033\, Locatoin: Ray White Lower Hutt\, 9-11 Kin
 gs Cres\, Time: 3:00PM
SUMMARY:Auction for 
END:VEVENT
END:VCALENDAR
