BEGIN:VCALENDAR
VERSION:2.0
PRODID:icalendar-ruby
CALSCALE:GREGORIAN
BEGIN:VEVENT
DTSTAMP:20260421T025222Z
UID:ec694ac9-7132-4491-8c7f-b3894f6e2ebb
DTSTART;VALUE=DATE:20210421
DESCRIPTION:Property ID# 506674\, Locatoin: Ray White\, Lower Hutt\, Time: 
 3:00PM
SUMMARY:Auction for 
END:VEVENT
END:VCALENDAR
