BEGIN:VCALENDAR
VERSION:2.0
PRODID:icalendar-ruby
CALSCALE:GREGORIAN
BEGIN:VEVENT
DTSTAMP:20260423T204114Z
UID:34f23518-b0e6-48de-9d2c-e3578f90e64e
DTSTART;VALUE=DATE:20210330
DESCRIPTION:Property ID# 504654\, Locatoin: 897 Fergusson Drive\, Upper Hut
 t\, Time: 1:00PM
SUMMARY:Auction for 
END:VEVENT
END:VCALENDAR
