BEGIN:VCALENDAR
VERSION:2.0
PRODID:icalendar-ruby
CALSCALE:GREGORIAN
BEGIN:VEVENT
DTSTAMP:20260423T204233Z
UID:f33877ae-806a-47e2-a0d9-e668908fec7a
DTSTART;VALUE=DATE:20210323
DESCRIPTION:Property ID# 504653\, Locatoin: 897 Fergusson Drive\, Upper Hut
 t\, Time: 1:00PM
SUMMARY:Auction for 
END:VEVENT
END:VCALENDAR
