BEGIN:VCALENDAR
VERSION:2.0
PRODID:icalendar-ruby
CALSCALE:GREGORIAN
BEGIN:VEVENT
DTSTAMP:20260423T203818Z
UID:61a669bb-7066-4f00-9dbb-3a17b4103ae2
DTSTART;VALUE=DATE:20210310
DESCRIPTION:Property ID# 503119\, Locatoin: 120 Queens Drive\, Lower Hutt\,
  Time: 1:00PM
SUMMARY:Auction for 
END:VEVENT
END:VCALENDAR
