BEGIN:VCALENDAR
VERSION:2.0
PRODID:icalendar-ruby
CALSCALE:GREGORIAN
BEGIN:VEVENT
DTSTAMP:20260423T203534Z
UID:17938f97-86c0-451a-b969-8b8766c0a1c1
DTSTART;VALUE=DATE:20210309
DESCRIPTION:Property ID# 503113\, Locatoin: 897 Fergusson Drive\, Upper Hut
 t\, Time: 1:00PM
SUMMARY:Auction for 
END:VEVENT
END:VCALENDAR
