BEGIN:VCALENDAR
VERSION:2.0
PRODID:icalendar-ruby
CALSCALE:GREGORIAN
BEGIN:VEVENT
DTSTAMP:20260423T204145Z
UID:6f49b67f-1d26-41cf-944a-b3bf687f1589
DTSTART;VALUE=DATE:20210225
DESCRIPTION:Property ID# 502173\, Locatoin: 120 Queens Drive\, Lower Hutt\,
  Time: 1:00PM
SUMMARY:Auction for 
END:VEVENT
END:VCALENDAR
