BEGIN:VCALENDAR
VERSION:2.0
PRODID:icalendar-ruby
CALSCALE:GREGORIAN
BEGIN:VEVENT
DTSTAMP:20260423T203618Z
UID:e868180b-2935-48ec-8d13-f3935cd9f0d2
DTSTART;VALUE=DATE:20210209
DESCRIPTION:Property ID# 500582\, Locatoin: 897 Fergusson Drive\, Upper Hut
 t\, Time: 1:00PM
SUMMARY:Auction for 
END:VEVENT
END:VCALENDAR
