BEGIN:VCALENDAR
VERSION:2.0
PRODID:icalendar-ruby
CALSCALE:GREGORIAN
BEGIN:VEVENT
DTSTAMP:20260421T025258Z
UID:148484ce-46e1-493b-8d8f-2bc91f2b96d2
DTSTART;VALUE=DATE:20201104
DESCRIPTION:Property ID# 492901\, Locatoin: Ray White Lower Hutt\, 9-11 Kin
 gs Crescent\, Time: 2:00PM
SUMMARY:Auction for 
END:VEVENT
END:VCALENDAR
