BEGIN:VCALENDAR
VERSION:2.0
PRODID:icalendar-ruby
CALSCALE:GREGORIAN
BEGIN:VEVENT
DTSTAMP:20260420T115512Z
UID:0cd9df2d-efbf-4add-a4f3-1c35d9ddff2d
DTSTART;VALUE=DATE:20201022
DESCRIPTION:Property ID# 491954\, Locatoin: Harcourts\, 516 High St\, Lower
  Hutt\, Time: 2:00PM
SUMMARY:Auction for 
END:VEVENT
END:VCALENDAR
