BEGIN:VCALENDAR
VERSION:2.0
PRODID:icalendar-ruby
CALSCALE:GREGORIAN
BEGIN:VEVENT
DTSTAMP:20260421T025157Z
UID:21bc3dbd-3644-42da-9e4a-2da7ebab55ef
DTSTART;VALUE=DATE:20200924
DESCRIPTION:Property ID# 489731\, Locatoin: Raywhite\, Lower Hutt\, Time: 2
 :00PM
SUMMARY:Auction for 
END:VEVENT
END:VCALENDAR
