BEGIN:VCALENDAR
VERSION:2.0
PRODID:icalendar-ruby
CALSCALE:GREGORIAN
BEGIN:VEVENT
DTSTAMP:20260421T025319Z
UID:dc887542-2054-436b-a111-f8d9a10f0d2c
DTSTART;VALUE=DATE:20200902
DESCRIPTION:Property ID# 487798\, Locatoin: Raywhite\, Lower Hutt\, Time: 2
 :00PM
SUMMARY:Auction for 
END:VEVENT
END:VCALENDAR
