BEGIN:VCALENDAR
VERSION:2.0
PRODID:icalendar-ruby
CALSCALE:GREGORIAN
BEGIN:VEVENT
DTSTAMP:20260421T025131Z
UID:12191bc0-9d8c-44d4-a434-55aaeff776b3
DTSTART;VALUE=DATE:20200311
DESCRIPTION:Property ID# 473302\, Time: 4:00PM
SUMMARY:Auction for 
END:VEVENT
END:VCALENDAR
