BEGIN:VCALENDAR
VERSION:2.0
PRODID:icalendar-ruby
CALSCALE:GREGORIAN
BEGIN:VEVENT
DTSTAMP:20260421T001607Z
UID:de22af97-0c44-40da-bb38-dc5d4b645db9
DTSTART;VALUE=DATE:20200211
DESCRIPTION:Property ID# 471289\, Locatoin: Ray White\, 9-11 Kings Crescent
 \, Lower Hutt\, Time: 2:00PM
SUMMARY:Auction for 
END:VEVENT
END:VCALENDAR
