BEGIN:VCALENDAR
VERSION:2.0
PRODID:icalendar-ruby
CALSCALE:GREGORIAN
BEGIN:VEVENT
DTSTAMP:20260421T025004Z
UID:17a017ff-082b-449e-96c7-ecfad03a3518
DTSTART;VALUE=DATE:20200204
DESCRIPTION:Property ID# 470494\, Locatoin: Ray White\, 9-11 Kings Crescent
 \, Lower Hutt\, Time: 1:00PM
SUMMARY:Auction for 
END:VEVENT
END:VCALENDAR
